BEGIN:VCALENDAR
VERSION:2.0
PRODID:-//Scottsdale Quarter - ECPv6.15.20//NONSGML v1.0//EN
CALSCALE:GREGORIAN
METHOD:PUBLISH
X-ORIGINAL-URL:https://scottsdalequarter.com
X-WR-CALDESC:Events for Scottsdale Quarter
REFRESH-INTERVAL;VALUE=DURATION:PT1H
X-Robots-Tag:noindex
X-PUBLISHED-TTL:PT1H
BEGIN:VTIMEZONE
TZID:America/Phoenix
BEGIN:STANDARD
TZOFFSETFROM:-0700
TZOFFSETTO:-0700
TZNAME:MST
DTSTART:20250101T000000
END:STANDARD
END:VTIMEZONE
BEGIN:VEVENT
DTSTART;TZID=America/Phoenix:20260124T083000
DTEND;TZID=America/Phoenix:20260124T100000
DTSTAMP:20260420T045750
CREATED:20251230T194654Z
LAST-MODIFIED:20260121T192544Z
UID:10001113-1769243400-1769248800@scottsdalequarter.com
SUMMARY:Winter Reset
DESCRIPTION:Reset\, recharge\, and refocus with a thoughtfully curated morning of fitness and wellness.This outdoor experience begins with a full-body fitness class led by barre3 of North Scottsdale\, blending strength\, balance\, and mindful movement to help you ease back into a healthy routine. Finish strong with a breathwork class led by Miles Lucas.\n\nFollowing class\, continue your reset with complimentary B12 shots from bluSONIL\, giveaways from FEATURE\, a chance to win $500 in lululemon merchandise\, and a mobile cold plunge and sauna designed to support recovery\, circulation\, and overall well-being.\n\nIt’s an intentional way to slow down\, care for your body\, and start the new season feeling refreshed\, restored\, and energized.\n\n\n\n\nREGISTER HERE
URL:https://scottsdalequarter.com/events/winter-reset/
CATEGORIES:Fitness
ATTACH;FMTTYPE=image/jpeg:https://scottsdalequarter.com/wp-content/uploads/2025/08/AdobeStock_532316068-e1756499262927.jpeg
END:VEVENT
BEGIN:VEVENT
DTSTART;TZID=America/Phoenix:20260131T100000
DTEND;TZID=America/Phoenix:20260131T190000
DTSTAMP:20260420T045750
CREATED:20251030T205750Z
LAST-MODIFIED:20251030T205750Z
UID:10001102-1769853600-1769886000@scottsdalequarter.com
SUMMARY:Hello Kitty Cafe Truck
DESCRIPTION:The Hello Kitty Cafe Truck will be returning to Scottsdale Quarter on Saturday\, 1/31! Come visit them in the Quad near the fountains between 10 am-7 pm and pick up some supercute treats and merch\, while supplies last. See you there! \nAbout Hello Kitty Cafe Trucks\nHello Kitty Cafe first began its journey with the Hello Kitty Truck in 2014. This success led to the first-of-its-kind Hello Kitty Cafe Pop-Up Container in 2016 and the Hello Kitty Mini Cafe set within malls or lifestyle centers across the country.
URL:https://scottsdalequarter.com/events/hello-kitty-cafe-truck-2/
CATEGORIES:Pop-Up
ATTACH;FMTTYPE=image/jpeg:https://scottsdalequarter.com/wp-content/uploads/2024/03/hk-sq-e1710959273953.jpg
END:VEVENT
END:VCALENDAR