BEGIN:VCALENDAR
VERSION:2.0
PRODID:-//Scottsdale Quarter - ECPv6.15.20//NONSGML v1.0//EN
CALSCALE:GREGORIAN
METHOD:PUBLISH
X-ORIGINAL-URL:https://scottsdalequarter.com
X-WR-CALDESC:Events for Scottsdale Quarter
REFRESH-INTERVAL;VALUE=DURATION:PT1H
X-Robots-Tag:noindex
X-PUBLISHED-TTL:PT1H
BEGIN:VTIMEZONE
TZID:America/Detroit
BEGIN:DAYLIGHT
TZOFFSETFROM:-0500
TZOFFSETTO:-0400
TZNAME:EDT
DTSTART:20240310T070000
END:DAYLIGHT
BEGIN:STANDARD
TZOFFSETFROM:-0400
TZOFFSETTO:-0500
TZNAME:EST
DTSTART:20241103T060000
END:STANDARD
BEGIN:DAYLIGHT
TZOFFSETFROM:-0500
TZOFFSETTO:-0400
TZNAME:EDT
DTSTART:20250309T070000
END:DAYLIGHT
BEGIN:STANDARD
TZOFFSETFROM:-0400
TZOFFSETTO:-0500
TZNAME:EST
DTSTART:20251102T060000
END:STANDARD
BEGIN:DAYLIGHT
TZOFFSETFROM:-0500
TZOFFSETTO:-0400
TZNAME:EDT
DTSTART:20260308T070000
END:DAYLIGHT
BEGIN:STANDARD
TZOFFSETFROM:-0400
TZOFFSETTO:-0500
TZNAME:EST
DTSTART:20261101T060000
END:STANDARD
END:VTIMEZONE
BEGIN:VTIMEZONE
TZID:America/Phoenix
BEGIN:STANDARD
TZOFFSETFROM:-0700
TZOFFSETTO:-0700
TZNAME:MST
DTSTART:20240101T000000
END:STANDARD
END:VTIMEZONE
BEGIN:VEVENT
DTSTART;VALUE=DATE:20251121
DTEND;VALUE=DATE:20251225
DTSTAMP:20260420T062417
CREATED:20251009T222211Z
LAST-MODIFIED:20251222T235542Z
UID:10001094-1763683200-1766620799@scottsdalequarter.com
SUMMARY:Photos With Santa
DESCRIPTION:Santa will arrive on November 21st and will remain at Scottsdale Quarter until Christmas Eve when he returns to the North Pole to deliver presents. Santa’s hours vary by day. Visit the reservation page for current availability and to book your photos with Santa.\n\n\n\nReservations are encouraged but walk-up guests are welcome. Click the button below to reserve your photo session today. \n\n PHOTO RESERVATIONS \n\n\n\n\nPackage A – $49.99\n\n\n8 Photo Prints: (1) 6×8 Special Edition Christmas Print\, (1) 5×7 print\, (2) 4×6 prints and 4 wallet photos\nAll Digital Images\nReservation Treat #1: 50% off your Shutterfly Order\, Plus 10 Free Holiday Cards\nReservation Treat #2: Free Personalized Message from Santa\, Powered by Portable North Pole\nReservation Treat #3: Free 3-month trial to Crayola Create and Play\, a creative learning app for curious kids\n\n\nPackage B – $44.99\n\n\n6 Photo Prints: (2) 4×6 prints and (4) wallet photos\nAll Digital Images\nReservation Treat #1: 50% off your Shutterfly Order\, Plus 10 Free Holiday Cards\nReservation Treat #2: Free Personalized Message from Santa\, Powered by Portable North Pole\nReservation Treat #3: Free 3-month trial to Crayola Create and Play\, a creative learning app for curious kids\n\n\nPackage C – $39.99\n\n\n6 Photo Prints: (2) 4×6 prints and (4) wallet photos\nReservation Treat #1: 50% off your Shutterfly Order\, Plus 10 Free Holiday Cards\nReservation Treat #2: Free Personalized Message from Santa\, Powered by Portable North Pole\nReservation Treat #3: Free 3-month trial to Crayola Create and Play\, a creative learning app for curious kids\n\n\nPackage A+ – $59.99\n\n\n9 Photo Prints: (1) 6×8 Special Edition Christmas Print\, (2) 5×7 prints\, (2) 4×6 prints and 4 wallet photos\nExclusive 3rd Pose with Santa\nAll Digital Images\nReservation Treat #1: 50% Off Your Shutterfly Order\, Plus 10 Free Holiday Cards\nReservation Treat #2: Free Personalized Message from Santa\, Powered by Portable North Pole\nReservation Treat #3: Free 3-month trial to Crayola Create and Play\, a creative learning app for curious kids\n\n*Offer valid with purchase of Photo Package A+ at whereissanta.com only. Valid for session dates between November 21 and November 30 only. May only be used one time and may not be combined with any other offer. Not redeemable in person.
URL:https://scottsdalequarter.com/events/photos-with-santa-2/
LOCATION:The Quad at Scottsdale Quarter\, 15191 N Scottsdale Road\, Scottsdale\, AZ\, 85254\, United States
CATEGORIES:Kids,Seasonal
ATTACH;FMTTYPE=image/jpeg:https://scottsdalequarter.com/wp-content/uploads/2025/10/Santa-Set-e1764019375950.jpg
END:VEVENT
BEGIN:VEVENT
DTSTART;TZID=America/Phoenix:20251205T080000
DTEND;TZID=America/Phoenix:20251205T190000
DTSTAMP:20260420T062417
CREATED:20251119T203608Z
LAST-MODIFIED:20251202T192025Z
UID:10001107-1764921600-1764961200@scottsdalequarter.com
SUMMARY:Grand Opening of bluSONIL
DESCRIPTION:The wait is finally over\, bluSONIL\, your destination For Longevity\, Wellness & Regenerative Aesthetics will be opening on December 5th. Book your services online now. And don’t miss the chance to sign up as a founding member to receive exclusive discounts for the lifetime of your membership. \nBe First. Be Founding. Be Forever. \nThis is your chance to join bluSONIL at the very beginning\, where innovation meets intention\, and your wellness journey becomes part of something enduring. \nFounding Members receive exclusive\, lifetime benefits as a thank you for believing in our mission from day one. More than a membership\, this is a lasting connection to your longevity\, wellness and radiance. \nFounding Member Benefits: \n\nLifetime Preferred Pricing:  Lock in our best rates\, guaranteed for life.\nPriority Booking: Enjoy first access to our most in-demand services.\nVIP Events & Experiences:  Invitations to exclusive launch events\, workshops\, and curated gatherings.\nFounding Member Recognition: Reserved status within the bluSONIL community\, always.\n\nThere will never be another offer like this. As bluSONIL expands nationwide\, your Founding Membership will remain a permanent symbol of trust\, vision\, and your investment in healthier and longer life. \nSign up here: https://www.blusonil.com/founding-membership/
URL:https://scottsdalequarter.com/events/grand-opening-of-blusonil/
CATEGORIES:Retailer Events
ATTACH;FMTTYPE=image/png:https://scottsdalequarter.com/wp-content/uploads/2025/11/bluSONIL-image.png
END:VEVENT
BEGIN:VEVENT
DTSTART;TZID=America/Detroit:20251205T173000
DTEND;TZID=America/Detroit:20251205T193000
DTSTAMP:20260420T062417
CREATED:20251009T200753Z
LAST-MODIFIED:20251124T212435Z
UID:10001093-1764955800-1764963000@scottsdalequarter.com
SUMMARY:Winter Wishes Toy Drive
DESCRIPTION:The holiday season is a time for giving! \nJoin us on December 5th\, from 5:30 p.m. – 7:30 p.m. for our annual toy drive event! We are partnering with The Foster Alliance (formerly known as Arizona Helping Hands) to host the biggest toy drive in the valley! Bring your donation of unwrapped gifts and enjoy a night of festive music\, holiday treats\, and more! \n\nLive Music from Chuck E Baby and the Allstar Trio\nHot Chocolate from Sweet Paris Crêperie & Café\nHoliday Character Appearances\nKids Crafts\nPhotos with Santa (Cost Applies)\n\n \n 
URL:https://scottsdalequarter.com/events/fill-santas-sleigh/
LOCATION:The Quad at Scottsdale Quarter\, 15191 N Scottsdale Road\, Scottsdale\, AZ\, 85254\, United States
CATEGORIES:Seasonal
ATTACH;FMTTYPE=image/jpeg:https://scottsdalequarter.com/wp-content/uploads/2024/08/M3F-Holiday-Concert-Event_0053-e1733344210982.webp
END:VEVENT
BEGIN:VEVENT
DTSTART;VALUE=DATE:20251206
DTEND;VALUE=DATE:20251221
DTSTAMP:20260420T062417
CREATED:20251120T192822Z
LAST-MODIFIED:20251215T185713Z
UID:10000029-1764979200-1766275199@scottsdalequarter.com
SUMMARY:Toy Drive
DESCRIPTION:Scottsdale Quarter is again partnering with The Foster Alliance (Formerly Arizona Helping Hands) for our annual Holiday Toy Drive. From now through December 20th\, we will accept new toys and clothing for babies\, children\, and teens. Stop by The Quad and look for the donation bin behind Santa’s Cabin. \nThanks to the generosity of our community\, Arizona Helping Hands has made the holidays joyful for children throughout the state since 1998. \nClick here to view a wish list. \n​
URL:https://scottsdalequarter.com/events/toy-drive/
LOCATION:The Quad at Scottsdale Quarter\, 15191 N Scottsdale Road\, Scottsdale\, AZ\, 85254\, United States
CATEGORIES:Seasonal
ATTACH;FMTTYPE=image/jpeg:https://scottsdalequarter.com/wp-content/uploads/2024/11/snow-7168575_1280.jpg
END:VEVENT
BEGIN:VEVENT
DTSTART;TZID=America/Phoenix:20251213T110000
DTEND;TZID=America/Phoenix:20251213T140000
DTSTAMP:20260420T062417
CREATED:20251204T184630Z
LAST-MODIFIED:20251204T184630Z
UID:10001108-1765623600-1765634400@scottsdalequarter.com
SUMMARY:Ariat Western Wonderland Event
DESCRIPTION:Kick up your boots and join us for a holiday celebration at Ariat Scottsdale on Saturday\, 13. \nThis event will feature live music by Kianna Martinez\, Cozy Sips Mocktails by Dashing Spirits\, Boot Charms by Golden Desert Hat Bar and an exciting Gift with Purchase! \nEvent Details:\nSaturday\, December 13th\n11-2 PM\nAriat Brand Shop – Scottsdale \nStore Landing Page:\nhttps://stores.ariat.com/scottsdale \n \n 
URL:https://scottsdalequarter.com/events/ariat-western-wonderland-event/
CATEGORIES:Retailer Events
ATTACH;FMTTYPE=image/png:https://scottsdalequarter.com/wp-content/uploads/2025/12/Screenshot-2025-12-04-114343.png
END:VEVENT
BEGIN:VEVENT
DTSTART;TZID=America/Detroit:20251213T120000
DTEND;TZID=America/Detroit:20251213T150000
DTSTAMP:20260420T062417
CREATED:20251030T203348Z
LAST-MODIFIED:20251209T190945Z
UID:10001101-1765627200-1765638000@scottsdalequarter.com
SUMMARY:Shop With Your Pet
DESCRIPTION:Get your fur babies ready for a day out at The Quarter! From 12 – 3 p.m. on Saturday\, December 13th\, you and your pup can shop at all of our pet-friendly retailers and enjoy some doggone fun. And for those without a furry friend\, our adoption partner will be out with some adorable pups looking for a new home. 😉 \nGet a complimentary holiday photo taken with the meanest & greenest grouch in Santa City! Don’t forget to dress your pups to impress for the Ugly Sweater Contest for a chance to win a great prize!  \nView the full list of pet-friendly retailers and restaurants below. \n \nPet-Friendly Retailers: \n\nAltar’d State\nAlbion Fit\nApple\nAriat\nBath & Body Works\nBeard Papa’s\nBonobos\nBrown Jordan\nBubble Bee\nCandle Chemistry (treats and water)\nCC Patio\nCB2\nDesign Within Reach\nFabletics\nFaherty\nFree People\nGalicia Fine Jewelers\nG/FORE\ngorjana\nIntimissimi\nKendra Scott\nLoveShackFancy\nLevi’s®\nlululemon\nMarine Layer\nPAIGE\nPandora\nPaper Source\nParis Optique\nPottery Barn\nPurple\nrag & bone\nRails\nReformation\nRestoration Hardware\nSephora\nSkinCeuticals SkinLab by Maffi Plastic Surgery\nState & Liberty\nSuitsupply\nThe Shade Store\nTempur-Pedic\nUrban Outfitters\nurbAna\nVince\nvineyard vines\nWarby Parker\nWest Elm\nYETI\n\n\nPet-Friendly Patios at Restaurants: \n\nCulinary Dropout\netta\nGrimaldi’s\nMason’s Famous Lobster Rolls\nObon Sushi\nPress Coffee\nPressed Juicery\nSweet Paris Creperie & Cafe\nTrue Food Kitchen\nZinburger
URL:https://scottsdalequarter.com/events/shop-with-your-pet-2/
LOCATION:The Quad at Scottsdale Quarter\, 15191 N Scottsdale Road\, Scottsdale\, AZ\, 85254\, United States
CATEGORIES:Seasonal
ATTACH;FMTTYPE=image/jpeg:https://scottsdalequarter.com/wp-content/uploads/2024/08/AdobeStock_678333055-scaled-e1727465762360.webp
END:VEVENT
BEGIN:VEVENT
DTSTART;TZID=America/Phoenix:20251214T170000
DTEND;TZID=America/Phoenix:20251214T190000
DTSTAMP:20260420T062417
CREATED:20251118T221426Z
LAST-MODIFIED:20251209T191010Z
UID:10001106-1765731600-1765738800@scottsdalequarter.com
SUMMARY:Grand Menorah Lighting
DESCRIPTION:Chabad of Scottsdale invites the community to the join in their annual Chanukah celebration at Scottsdale Quarter. \nGiant Menorah Lighting\nMusic\nGiveaways & Prizes\nDelicious Chanukah Treats\nEntertainment & Fun for All Ages \nSunday\, December 14th at 5:00 PM
URL:https://scottsdalequarter.com/events/grand-menorah-lighting/
CATEGORIES:Seasonal
ATTACH;FMTTYPE=image/webp:https://scottsdalequarter.com/wp-content/uploads/2025/11/menorah-1.webp
END:VEVENT
BEGIN:VEVENT
DTSTART;TZID=America/Phoenix:20251216T183000
DTEND;TZID=America/Phoenix:20251216T203000
DTSTAMP:20260420T062417
CREATED:20251215T192805Z
LAST-MODIFIED:20251215T193055Z
UID:10001112-1765909800-1765917000@scottsdalequarter.com
SUMMARY:Holiday Shop at lululemon
DESCRIPTION:The gift is just the beginning. Join us for a members’ Holiday Shop at lululemon Scottsdale Quarter!\n\n\n\nThe holidays are almost here—and we’re thrilled to invite you to our exclusive members-only Holiday Shop! Get ready for an evening filled with joy\, surprises\, and a few special touches to make this the most memorable shopping experience yet. \nWe can’t wait to celebrate YOU — our loyal and valued guests. \nwhen: Tuesday\, December 16th : 6:30-8:30p \nwhere: lululemon Scottsdale Quarter \nhow: Register here to save your spot: Holiday Shop x Scottsdale Quarter | Eventbrite \n*This event is available exclusively to lululemon members. Become a member for free by signing up at https://shop.lululemon.com/membership 
URL:https://scottsdalequarter.com/events/holiday-shop-at-lululemon/
CATEGORIES:Fashion,Fitness
ATTACH;FMTTYPE=image/jpeg:https://scottsdalequarter.com/wp-content/uploads/2025/12/holiday-shop.jpg
END:VEVENT
BEGIN:VEVENT
DTSTART;TZID=America/Detroit:20251220T110000
DTEND;TZID=America/Detroit:20251221T140000
DTSTAMP:20260420T062417
CREATED:20251029T220034Z
LAST-MODIFIED:20251216T232449Z
UID:10000510-1766228400-1766325600@scottsdalequarter.com
SUMMARY:Holiday Weekend Entertainment
DESCRIPTION:Tis’ the season for shopping\, carolers\, characters\, and more! Starting Black Friday\, enjoy holiday music from the Dicken’s Carolers and Pete Pancrazzi while you stroll through The Quad. \nAnd during Black Friday Weekend\, be sure to snap a photo with some of your favorite Holiday characters! \nSee the schedule below! \nBlack Friday\, November 28th \n\nDicken’s Carolers 11 a.m. – 2 p.m.\nCharacter Appearances 11 a.m. – 2 p.m\nViolinist 6-8 p.m.\n\nSaturday\, November 29th \n\nThe Santa Social 2 -8 p.m.\nTree Lighting 6 p.m.\nHoliday Movie in The Quad\, The Grinch Who Stole Christmas\, 6-8 p.m.\n\nSunday\, November 30th \n\nPete Pancrazi 11 – 2 p.m.\nCharacter Appearances 11 a.m. – 2 p.m\n\nSaturday\, December 6th \n\nDicken’s Carolers 11 – 2 p.m.\n\nSunday\, December 7th \n\nPete Pancrazi 11 – 2 p.m.\n\nSaturday\, December 13th \n\nDicken’s Carolers 11 – 2 p.m.\n\nSunday\, December 14th \n\nPete Pancrazi 11 – 2 p.m.\n\nSaturday\, December 21st \n\nDicken’s Carolers 11 – 2 p.m.\n\nSunday\, December 22nd \n\nPete Pancrazi 11 – 2 p.m.\n\n \nWant to be the first to know when we post new events? Keep up with The Quarter by signing up for our newsletter. \nJOIN NOW
URL:https://scottsdalequarter.com/events/holiday-weekend-entertainment-2/
CATEGORIES:Seasonal
ATTACH;FMTTYPE=image/jpeg:https://scottsdalequarter.com/wp-content/uploads/2023/11/scottsdale-quarter-santa-social-24-e1699912172200.jpg
END:VEVENT
END:VCALENDAR