BEGIN:VCALENDAR
VERSION:2.0
PRODID:-//Scottsdale Quarter - ECPv6.15.20//NONSGML v1.0//EN
CALSCALE:GREGORIAN
METHOD:PUBLISH
X-ORIGINAL-URL:https://scottsdalequarter.com
X-WR-CALDESC:Events for Scottsdale Quarter
REFRESH-INTERVAL;VALUE=DURATION:PT1H
X-Robots-Tag:noindex
X-PUBLISHED-TTL:PT1H
BEGIN:VTIMEZONE
TZID:America/Phoenix
BEGIN:STANDARD
TZOFFSETFROM:-0700
TZOFFSETTO:-0700
TZNAME:MST
DTSTART:20240101T000000
END:STANDARD
END:VTIMEZONE
BEGIN:VTIMEZONE
TZID:America/Detroit
BEGIN:DAYLIGHT
TZOFFSETFROM:-0500
TZOFFSETTO:-0400
TZNAME:EDT
DTSTART:20240310T070000
END:DAYLIGHT
BEGIN:STANDARD
TZOFFSETFROM:-0400
TZOFFSETTO:-0500
TZNAME:EST
DTSTART:20241103T060000
END:STANDARD
BEGIN:DAYLIGHT
TZOFFSETFROM:-0500
TZOFFSETTO:-0400
TZNAME:EDT
DTSTART:20250309T070000
END:DAYLIGHT
BEGIN:STANDARD
TZOFFSETFROM:-0400
TZOFFSETTO:-0500
TZNAME:EST
DTSTART:20251102T060000
END:STANDARD
BEGIN:DAYLIGHT
TZOFFSETFROM:-0500
TZOFFSETTO:-0400
TZNAME:EDT
DTSTART:20260308T070000
END:DAYLIGHT
BEGIN:STANDARD
TZOFFSETFROM:-0400
TZOFFSETTO:-0500
TZNAME:EST
DTSTART:20261101T060000
END:STANDARD
END:VTIMEZONE
BEGIN:VEVENT
DTSTART;TZID=America/Phoenix:20251108T110000
DTEND;TZID=America/Phoenix:20251108T150000
DTSTAMP:20260420T074749
CREATED:20251106T195146Z
LAST-MODIFIED:20251106T203044Z
UID:10001103-1762599600-1762614000@scottsdalequarter.com
SUMMARY:rag & bone anniversary
DESCRIPTION:Scottsdale Turns Two\nJoin us as rag & bone Scottsdale celebrates two years at Scottsdale Quarter on Saturday\, 11/8!\nStop by from 11 AM–3 PM to explore new arrivals and receive a complimentary mini bouquet from the Petals & Pedals flower cart with purchase. Celebrate in style with us!
URL:https://scottsdalequarter.com/events/rag-bone-flower-cart/
LOCATION:rag & bone\, 15147 N Scottsdale Road\, Suite H-180\, Scottsdale\, AZ\, 85254\, United States
CATEGORIES:Retailer Events
ATTACH;FMTTYPE=image/png:https://scottsdalequarter.com/wp-content/uploads/2025/11/Screenshot-2025-11-06-124420.png
END:VEVENT
BEGIN:VEVENT
DTSTART;TZID=America/Phoenix:20251109T100000
DTEND;TZID=America/Phoenix:20251109T110000
DTSTAMP:20260420T074749
CREATED:20251023T165307Z
LAST-MODIFIED:20251023T165307Z
UID:10001099-1762682400-1762686000@scottsdalequarter.com
SUMMARY:Design Class at Pottery Barn
DESCRIPTION:Design Class: How to Decorate a Festive Living Room\n\n\nWe’ll take the guesswork out of holiday styling with our design formula for a festive living room\, complete with candles\, botanicals\, and seasonal pillows. Events are free but space is limited. \n\n\n REGISTER HERE  \nPottery Barn offers expertly crafted furniture and home decor. Come by and learn more about the complimentary decorating and design services offered by their Design Studio Specialists.
URL:https://scottsdalequarter.com/events/design-class-at-pottery-barn-14/
LOCATION:Pottery Barn\, 15279 N Scottsdale Road\, Scottsdale\, AZ\, 85254\, United States
CATEGORIES:Retailer Events
ATTACH;FMTTYPE=image/png:https://scottsdalequarter.com/wp-content/uploads/2025/10/PB-Holiday.png
END:VEVENT
BEGIN:VEVENT
DTSTART;VALUE=DATE:20251121
DTEND;VALUE=DATE:20251225
DTSTAMP:20260420T074749
CREATED:20251009T222211Z
LAST-MODIFIED:20251222T235542Z
UID:10001094-1763683200-1766620799@scottsdalequarter.com
SUMMARY:Photos With Santa
DESCRIPTION:Santa will arrive on November 21st and will remain at Scottsdale Quarter until Christmas Eve when he returns to the North Pole to deliver presents. Santa’s hours vary by day. Visit the reservation page for current availability and to book your photos with Santa.\n\n\n\nReservations are encouraged but walk-up guests are welcome. Click the button below to reserve your photo session today. \n\n PHOTO RESERVATIONS \n\n\n\n\nPackage A – $49.99\n\n\n8 Photo Prints: (1) 6×8 Special Edition Christmas Print\, (1) 5×7 print\, (2) 4×6 prints and 4 wallet photos\nAll Digital Images\nReservation Treat #1: 50% off your Shutterfly Order\, Plus 10 Free Holiday Cards\nReservation Treat #2: Free Personalized Message from Santa\, Powered by Portable North Pole\nReservation Treat #3: Free 3-month trial to Crayola Create and Play\, a creative learning app for curious kids\n\n\nPackage B – $44.99\n\n\n6 Photo Prints: (2) 4×6 prints and (4) wallet photos\nAll Digital Images\nReservation Treat #1: 50% off your Shutterfly Order\, Plus 10 Free Holiday Cards\nReservation Treat #2: Free Personalized Message from Santa\, Powered by Portable North Pole\nReservation Treat #3: Free 3-month trial to Crayola Create and Play\, a creative learning app for curious kids\n\n\nPackage C – $39.99\n\n\n6 Photo Prints: (2) 4×6 prints and (4) wallet photos\nReservation Treat #1: 50% off your Shutterfly Order\, Plus 10 Free Holiday Cards\nReservation Treat #2: Free Personalized Message from Santa\, Powered by Portable North Pole\nReservation Treat #3: Free 3-month trial to Crayola Create and Play\, a creative learning app for curious kids\n\n\nPackage A+ – $59.99\n\n\n9 Photo Prints: (1) 6×8 Special Edition Christmas Print\, (2) 5×7 prints\, (2) 4×6 prints and 4 wallet photos\nExclusive 3rd Pose with Santa\nAll Digital Images\nReservation Treat #1: 50% Off Your Shutterfly Order\, Plus 10 Free Holiday Cards\nReservation Treat #2: Free Personalized Message from Santa\, Powered by Portable North Pole\nReservation Treat #3: Free 3-month trial to Crayola Create and Play\, a creative learning app for curious kids\n\n*Offer valid with purchase of Photo Package A+ at whereissanta.com only. Valid for session dates between November 21 and November 30 only. May only be used one time and may not be combined with any other offer. Not redeemable in person.
URL:https://scottsdalequarter.com/events/photos-with-santa-2/
LOCATION:The Quad at Scottsdale Quarter\, 15191 N Scottsdale Road\, Scottsdale\, AZ\, 85254\, United States
CATEGORIES:Kids,Seasonal
ATTACH;FMTTYPE=image/jpeg:https://scottsdalequarter.com/wp-content/uploads/2025/10/Santa-Set-e1764019375950.jpg
END:VEVENT
BEGIN:VEVENT
DTSTART;TZID=America/Phoenix:20251122T170000
DTEND;TZID=America/Phoenix:20251122T190000
DTSTAMP:20260420T074749
CREATED:20251024T231704Z
LAST-MODIFIED:20251122T233417Z
UID:10001100-1763830800-1763838000@scottsdalequarter.com
SUMMARY:Live Music - Sandra Bassett
DESCRIPTION:Due to adverse weather\, tonight’s show has been canceled. \nJoin us in The Quad for an unforgettable evening of live music beneath the palm trees! Immerse yourself in the powerful voice and soulful style of Sandra Bassett\, who masterfully fuses classic R&B\, jazz\, Motown\, disco\, and blues with a vibrant modern flair. Bring your friends and family\, pack your blankets and chairs\, and get ready to dance the night away under the stars.
URL:https://scottsdalequarter.com/events/live-music-sandra-bassett/
LOCATION:The Quad at Scottsdale Quarter\, 15191 N Scottsdale Road\, Scottsdale\, AZ\, 85254\, United States
CATEGORIES:Arts, Culture and Music
ATTACH;FMTTYPE=image/webp:https://scottsdalequarter.com/wp-content/uploads/2025/10/user1754422053.webp
END:VEVENT
BEGIN:VEVENT
DTSTART;TZID=America/Phoenix:20251129T140000
DTEND;TZID=America/Phoenix:20251129T200000
DTSTAMP:20260420T074749
CREATED:20251009T185059Z
LAST-MODIFIED:20251120T232141Z
UID:10001092-1764424800-1764446400@scottsdalequarter.com
SUMMARY:The Santa Social
DESCRIPTION: Kick Off the Holiday Season at Our Annual Santa Social! \nJoin us on Saturday\, November 29th\, from 2:00 p.m. to 8:00 p.m. for a festive day packed with holiday cheer! Bring the whole family and enjoy: Kids’ entertainment Hot chocolate & crafts Photos with Santa (fee applies) Caricature artists & face painters Special appearances from beloved Christmas characters\nCap off the evening with our annual tree lighting ceremony followed by a holiday feature film: The Grinch\n\n Raffle Giveaway:Purchase a $5 raffle ticket to support Phoenix Children’s and enter for a chance to win prizes valued up to $1\,500\, including a 1-Night Stay at The Fairmont Scottsdale Princess with 4 Tickets to Christmas at The Princess\, plus gift cards to Candle Chemistry and OBON Sushi.\n\nSchedule of Events:\n\n2:00 – 5:45 PMCaricature ArtistsFace PaintersChristmas CharactersKids’ Games & CraftsLive DJ\n\n5:45 – 6:00 PMTree Lighting Ceremony\n\n6:00 – 8:00 PMHoliday Feature Film: How the Grinch Stole Christmas
URL:https://scottsdalequarter.com/events/the-santa-social-2/
LOCATION:The Quad at Scottsdale Quarter\, 15191 N Scottsdale Road\, Scottsdale\, AZ\, 85254\, United States
CATEGORIES:Kids,Seasonal
ATTACH;FMTTYPE=image/jpeg:https://scottsdalequarter.com/wp-content/uploads/2023/10/little-girl-christmas.jpg
END:VEVENT
END:VCALENDAR