BEGIN:VCALENDAR
VERSION:2.0
PRODID:-//Scottsdale Quarter - ECPv6.15.20//NONSGML v1.0//EN
CALSCALE:GREGORIAN
METHOD:PUBLISH
X-ORIGINAL-URL:https://scottsdalequarter.com
X-WR-CALDESC:Events for Scottsdale Quarter
REFRESH-INTERVAL;VALUE=DURATION:PT1H
X-Robots-Tag:noindex
X-PUBLISHED-TTL:PT1H
BEGIN:VTIMEZONE
TZID:America/Phoenix
BEGIN:STANDARD
TZOFFSETFROM:-0700
TZOFFSETTO:-0700
TZNAME:MST
DTSTART:20240101T000000
END:STANDARD
END:VTIMEZONE
BEGIN:VEVENT
DTSTART;TZID=America/Phoenix:20250405T083000
DTEND;TZID=America/Phoenix:20250405T103000
DTSTAMP:20260422T071344
CREATED:20250304T211024Z
LAST-MODIFIED:20250318T223053Z
UID:10000887-1743841800-1743849000@scottsdalequarter.com
SUMMARY:barre3 at The Quarter
DESCRIPTION:barre3 at The Quarter is back!  \nWhen: Saturday\, April 5 at 8:30am\nWhere: The Quad at Scottsdale Quarter\nWhat: Donation-based outdoor class\nWhy: To move together & raise money for Raising Special Kids💚 \nThe first 100 people to sign up will receive a swag bag full of fantastic goodies from some of our favorite businesses. \nRecommended donation of $20 >>> REGISTER HERE <<<<< \n 
URL:https://scottsdalequarter.com/events/barre3-at-the-quarter/
CATEGORIES:Fitness,Pop-Up
ATTACH;FMTTYPE=image/jpeg:https://scottsdalequarter.com/wp-content/uploads/2024/03/IMG_548C8B8E3FE8-1-e1711150128707.jpeg
END:VEVENT
END:VCALENDAR