BEGIN:VCALENDAR
VERSION:2.0
PRODID:-//Scottsdale Quarter - ECPv6.15.20//NONSGML v1.0//EN
CALSCALE:GREGORIAN
METHOD:PUBLISH
X-ORIGINAL-URL:https://scottsdalequarter.com
X-WR-CALDESC:Events for Scottsdale Quarter
REFRESH-INTERVAL;VALUE=DURATION:PT1H
X-Robots-Tag:noindex
X-PUBLISHED-TTL:PT1H
BEGIN:VTIMEZONE
TZID:America/Phoenix
BEGIN:STANDARD
TZOFFSETFROM:-0700
TZOFFSETTO:-0700
TZNAME:MST
DTSTART:20240101T000000
END:STANDARD
END:VTIMEZONE
BEGIN:VEVENT
DTSTART;TZID=America/Phoenix:20250207T140000
DTEND;TZID=America/Phoenix:20250207T180000
DTSTAMP:20260422T115938
CREATED:20250128T213322Z
LAST-MODIFIED:20250128T225132Z
UID:10000867-1738936800-1738951200@scottsdalequarter.com
SUMMARY:Trucker Hat Bar
DESCRIPTION:Join American Threads on Friday\, February 7 for a trucker hat bar with Nicki & Marie featuring custom hats and refreshments. \n \n 
URL:https://scottsdalequarter.com/events/trucker-hat-pop-up/
CATEGORIES:Pop-Up
ATTACH;FMTTYPE=image/jpeg:https://scottsdalequarter.com/wp-content/uploads/2024/02/American-Threads-SQ-e1709072372352.jpg
END:VEVENT
BEGIN:VEVENT
DTSTART;TZID=America/Phoenix:20250214T140000
DTEND;TZID=America/Phoenix:20250214T190000
DTSTAMP:20260422T115938
CREATED:20250128T212558Z
LAST-MODIFIED:20250128T212558Z
UID:10000866-1739541600-1739559600@scottsdalequarter.com
SUMMARY:Valentine's Jewelry Pop-Up
DESCRIPTION:Join American Threads on Friday\, February 14 for a jewelry pop-up with The Forever Bar featuring permanent jewelry and refreshments.
URL:https://scottsdalequarter.com/events/valentines-jewelry-pop-up/
CATEGORIES:Pop-Up
ATTACH;FMTTYPE=image/jpeg:https://scottsdalequarter.com/wp-content/uploads/2024/02/American-Threads-SQ-e1709072372352.jpg
END:VEVENT
END:VCALENDAR